Package: SurfR Version: 1.3.6 Command: rm -rf SurfR.buildbin-libdir && mkdir SurfR.buildbin-libdir && /Users/biocbuild/BBS/utils/build-universal.sh SurfR_1.3.6.tar.gz /Library/Frameworks/R.framework/Resources/bin/R SurfR.buildbin-libdir StartedAt: 2025-02-05 01:05:16 -0500 (Wed, 05 Feb 2025) EndedAt: 2025-02-05 01:06:12 -0500 (Wed, 05 Feb 2025) EllapsedTime: 55.6 seconds RetCode: 0 Status: OK PackageFile: SurfR_1.3.6.tgz PackageFileSize: 444.9 KiB