Package: SurfR Version: 1.3.6 Command: /Library/Frameworks/R.framework/Resources/bin/R CMD build --keep-empty-dirs --no-resave-data SurfR StartedAt: 2025-02-04 18:31:07 -0500 (Tue, 04 Feb 2025) EndedAt: 2025-02-04 18:31:57 -0500 (Tue, 04 Feb 2025) EllapsedTime: 50.3 seconds RetCode: 0 Status: OK PackageFile: SurfR_1.3.6.tar.gz PackageFileSize: 372.7 KiB