Package: SurfR Version: 1.3.6 Command: /Library/Frameworks/R.framework/Resources/bin/R CMD check --install=check:SurfR.install-out.txt --library=/Library/Frameworks/R.framework/Resources/library --no-vignettes --timings SurfR_1.3.6.tar.gz StartedAt: 2025-02-05 23:38:21 -0500 (Wed, 05 Feb 2025) EndedAt: 2025-02-05 23:43:46 -0500 (Wed, 05 Feb 2025) EllapsedTime: 324.4 seconds RetCode: 0 Status: OK CheckDir: SurfR.Rcheck Warnings: 0