Package: SurfR Version: 1.3.6 Command: /Library/Frameworks/R.framework/Resources/bin/R CMD INSTALL SurfR StartedAt: 2025-02-04 15:40:52 -0500 (Tue, 04 Feb 2025) EndedAt: 2025-02-04 15:41:45 -0500 (Tue, 04 Feb 2025) EllapsedTime: 52.5 seconds RetCode: 0 Status: OK