Package: SurfR Version: 1.3.6 Command: /home/biocbuild/bbs-3.21-bioc/R/bin/R CMD build --keep-empty-dirs --no-resave-data SurfR StartedAt: 2025-02-05 19:31:26 -0500 (Wed, 05 Feb 2025) EndedAt: 2025-02-05 19:32:10 -0500 (Wed, 05 Feb 2025) EllapsedTime: 43.1 seconds RetCode: 0 Status: OK PackageFile: SurfR_1.3.6.tar.gz PackageFileSize: 372.8 KiB