Package: SurfR Version: 1.3.6 Command: /home/biocbuild/bbs-3.21-bioc/R/bin/R CMD check --install=check:SurfR.install-out.txt --library=/home/biocbuild/bbs-3.21-bioc/R/site-library --timings SurfR_1.3.6.tar.gz StartedAt: 2025-02-06 03:13:17 -0500 (Thu, 06 Feb 2025) EndedAt: 2025-02-06 03:18:24 -0500 (Thu, 06 Feb 2025) EllapsedTime: 306.4 seconds RetCode: 0 Status: OK CheckDir: SurfR.Rcheck Warnings: 0