Package: SurfR Version: 1.3.6 Command: /home/biocbuild/bbs-3.21-bioc/R/bin/R CMD INSTALL SurfR StartedAt: 2025-02-05 15:42:54 -0500 (Wed, 05 Feb 2025) EndedAt: 2025-02-05 15:43:32 -0500 (Wed, 05 Feb 2025) EllapsedTime: 37.6 seconds RetCode: 0 Status: OK