Package: SurfR Version: 1.3.6 Command: rm -rf SurfR.buildbin-libdir && mkdir SurfR.buildbin-libdir && E:\biocbuild\bbs-3.21-bioc\R\bin\R.exe CMD INSTALL --build --library=SurfR.buildbin-libdir SurfR_1.3.6.tar.gz StartedAt: 2025-02-05 09:02:24 -0500 (Wed, 05 Feb 2025) EndedAt: 2025-02-05 09:03:18 -0500 (Wed, 05 Feb 2025) EllapsedTime: 53.7 seconds RetCode: 0 Status: OK PackageFile: SurfR_1.3.6.zip PackageFileSize: 450.6 KiB