Package: SurfR Version: 1.3.6 Command: chmod a+r SurfR -R && E:\biocbuild\bbs-3.21-bioc\R\bin\R.exe CMD build --keep-empty-dirs --no-resave-data SurfR StartedAt: 2025-02-05 22:05:54 -0500 (Wed, 05 Feb 2025) EndedAt: 2025-02-05 22:07:05 -0500 (Wed, 05 Feb 2025) EllapsedTime: 71.0 seconds RetCode: 0 Status: OK PackageFile: SurfR_1.3.6.tar.gz PackageFileSize: 373 KiB