Package: SurfR Version: 1.3.6 Command: E:\biocbuild\bbs-3.21-bioc\R\bin\R.exe CMD check --no-multiarch --install=check:SurfR.install-out.txt --library=E:\biocbuild\bbs-3.21-bioc\R\library --no-vignettes --timings SurfR_1.3.6.tar.gz StartedAt: 2025-02-05 06:23:45 -0500 (Wed, 05 Feb 2025) EndedAt: 2025-02-05 06:29:46 -0500 (Wed, 05 Feb 2025) EllapsedTime: 361.7 seconds RetCode: 0 Status: OK CheckDir: SurfR.Rcheck Warnings: 0