Package: SurfR Version: 1.3.6 Command: E:\biocbuild\bbs-3.21-bioc\R\bin\R.exe CMD INSTALL SurfR StartedAt: 2025-02-04 16:49:12 -0500 (Tue, 04 Feb 2025) EndedAt: 2025-02-04 16:50:02 -0500 (Tue, 04 Feb 2025) EllapsedTime: 49.6 seconds RetCode: 0 Status: OK