Package: SwathXtend Version: 2.29.0 Command: rm -rf SwathXtend.buildbin-libdir && mkdir SwathXtend.buildbin-libdir && /Users/biocbuild/BBS/utils/build-universal.sh SwathXtend_2.29.0.tar.gz /Library/Frameworks/R.framework/Resources/bin/R SwathXtend.buildbin-libdir StartedAt: 2025-02-04 22:34:43 -0500 (Tue, 04 Feb 2025) EndedAt: 2025-02-04 22:35:00 -0500 (Tue, 04 Feb 2025) EllapsedTime: 17.4 seconds RetCode: 0 Status: OK PackageFile: SwathXtend_2.29.0.tgz PackageFileSize: 346.6 MiB