Package: SwathXtend Version: 2.29.0 Command: /Library/Frameworks/R.framework/Resources/bin/R CMD INSTALL SwathXtend StartedAt: 2025-02-04 15:26:57 -0500 (Tue, 04 Feb 2025) EndedAt: 2025-02-04 15:26:59 -0500 (Tue, 04 Feb 2025) EllapsedTime: 2.1 seconds RetCode: 0 Status: OK