Package: SwathXtend Version: 2.29.0 Command: /Library/Frameworks/R.framework/Resources/bin/R CMD build --keep-empty-dirs --no-resave-data SwathXtend StartedAt: 2025-02-04 18:31:37 -0500 (Tue, 04 Feb 2025) EndedAt: 2025-02-04 18:35:23 -0500 (Tue, 04 Feb 2025) EllapsedTime: 226.2 seconds RetCode: 0 Status: OK PackageFile: SwathXtend_2.29.0.tar.gz PackageFileSize: 346.3 MiB