Package: SwathXtend Version: 2.29.0 Command: /Library/Frameworks/R.framework/Resources/bin/R CMD INSTALL SwathXtend StartedAt: 2025-02-04 15:40:44 -0500 (Tue, 04 Feb 2025) EndedAt: 2025-02-04 15:40:51 -0500 (Tue, 04 Feb 2025) EllapsedTime: 7.4 seconds RetCode: 0 Status: OK