Package: SwathXtend Version: 2.29.0 Command: /home/biocbuild/bbs-3.21-bioc/R/bin/R CMD build --keep-empty-dirs --no-resave-data SwathXtend StartedAt: 2025-02-09 19:31:58 -0500 (Sun, 09 Feb 2025) EndedAt: 2025-02-09 19:35:05 -0500 (Sun, 09 Feb 2025) EllapsedTime: 187.2 seconds RetCode: 0 Status: OK PackageFile: SwathXtend_2.29.0.tar.gz PackageFileSize: 346.5 MiB