Package: TADCompare Version: 1.17.0 Maintainer: Mikhail Dozmorov MaintainerEmail: mikhail.dozmorov at gmail.com git_url: https://git.bioconductor.org/packages/TADCompare git_branch: devel git_last_commit: e550de3 git_last_commit_date: 2024-10-29 10:47:18 -0500 (Tue, 29 Oct 2024)