Package: TADCompare Version: 1.17.0 Command: rm -rf TADCompare.buildbin-libdir && mkdir TADCompare.buildbin-libdir && /Users/biocbuild/BBS/utils/build-universal.sh TADCompare_1.17.0.tar.gz /Library/Frameworks/R.framework/Resources/bin/R TADCompare.buildbin-libdir StartedAt: 2025-02-04 22:34:51 -0500 (Tue, 04 Feb 2025) EndedAt: 2025-02-04 22:35:04 -0500 (Tue, 04 Feb 2025) EllapsedTime: 13.4 seconds RetCode: 0 Status: OK PackageFile: TADCompare_1.17.0.tgz PackageFileSize: 5.005 MiB