Package: TADCompare Version: 1.17.0 Command: /Library/Frameworks/R.framework/Resources/bin/R CMD build --keep-empty-dirs --no-resave-data TADCompare StartedAt: 2025-02-04 17:47:15 -0500 (Tue, 04 Feb 2025) EndedAt: 2025-02-04 17:47:42 -0500 (Tue, 04 Feb 2025) EllapsedTime: 26.3 seconds RetCode: 0 Status: OK PackageFile: TADCompare_1.17.0.tar.gz PackageFileSize: 4.195 MiB