Package: TADCompare Version: 1.17.0 Command: /home/biocbuild/R/R/bin/R CMD check --install=check:TADCompare.install-out.txt --library=/home/biocbuild/R/R/site-library --no-vignettes --timings TADCompare_1.17.0.tar.gz StartedAt: 2025-01-28 15:59:20 -0000 (Tue, 28 Jan 2025) EndedAt: 2025-01-28 16:03:34 -0000 (Tue, 28 Jan 2025) EllapsedTime: 253.4 seconds RetCode: 0 Status: OK CheckDir: TADCompare.Rcheck Warnings: 0