Package: TADCompare Version: 1.17.0 Command: /Library/Frameworks/R.framework/Resources/bin/R CMD build --keep-empty-dirs --no-resave-data TADCompare StartedAt: 2025-02-04 18:32:26 -0500 (Tue, 04 Feb 2025) EndedAt: 2025-02-04 18:33:46 -0500 (Tue, 04 Feb 2025) EllapsedTime: 80.1 seconds RetCode: 0 Status: OK PackageFile: TADCompare_1.17.0.tar.gz PackageFileSize: 4.194 MiB