Package: TADCompare Version: 1.17.0 Command: /home/biocbuild/bbs-3.21-bioc/R/bin/R CMD check --install=check:TADCompare.install-out.txt --library=/home/biocbuild/bbs-3.21-bioc/R/site-library --timings TADCompare_1.17.0.tar.gz StartedAt: 2025-02-05 03:23:15 -0500 (Wed, 05 Feb 2025) EndedAt: 2025-02-05 03:27:06 -0500 (Wed, 05 Feb 2025) EllapsedTime: 231.3 seconds RetCode: 0 Status: OK CheckDir: TADCompare.Rcheck Warnings: 0