Package: TADCompare Version: 1.17.0 Command: chmod a+r TADCompare -R && E:\biocbuild\bbs-3.21-bioc\R\bin\R.exe CMD build --keep-empty-dirs --no-resave-data TADCompare StartedAt: 2025-02-04 22:04:06 -0500 (Tue, 04 Feb 2025) EndedAt: 2025-02-04 22:05:43 -0500 (Tue, 04 Feb 2025) EllapsedTime: 96.9 seconds RetCode: 0 Status: OK PackageFile: TADCompare_1.17.0.tar.gz PackageFileSize: 3.463 MiB