Package: TADCompare Version: 1.17.0 Command: E:\biocbuild\bbs-3.21-bioc\R\bin\R.exe CMD check --no-multiarch --install=check:TADCompare.install-out.txt --library=E:\biocbuild\bbs-3.21-bioc\R\library --no-vignettes --timings TADCompare_1.17.0.tar.gz StartedAt: 2025-02-05 06:28:09 -0500 (Wed, 05 Feb 2025) EndedAt: 2025-02-05 06:31:45 -0500 (Wed, 05 Feb 2025) EllapsedTime: 216.6 seconds RetCode: 0 Status: OK CheckDir: TADCompare.Rcheck Warnings: 0