Package: TADCompare Version: 1.17.0 Command: E:\biocbuild\bbs-3.21-bioc\R\bin\R.exe CMD INSTALL TADCompare StartedAt: 2025-02-04 16:53:46 -0500 (Tue, 04 Feb 2025) EndedAt: 2025-02-04 16:54:25 -0500 (Tue, 04 Feb 2025) EllapsedTime: 38.8 seconds RetCode: 0 Status: OK