Package: TAPseq Version: 1.19.0 Command: /Library/Frameworks/R.framework/Resources/bin/R CMD build --keep-empty-dirs --no-resave-data TAPseq StartedAt: 2025-02-12 17:47:45 -0500 (Wed, 12 Feb 2025) EndedAt: 2025-02-12 17:49:22 -0500 (Wed, 12 Feb 2025) EllapsedTime: 97.1 seconds RetCode: 0 Status: OK PackageFile: TAPseq_1.19.0.tar.gz PackageFileSize: 2.526 MiB