Package: TAPseq Version: 1.19.0 Command: /Library/Frameworks/R.framework/Resources/bin/R CMD build --keep-empty-dirs --no-resave-data TAPseq StartedAt: 2025-02-04 18:32:27 -0500 (Tue, 04 Feb 2025) EndedAt: 2025-02-04 18:36:51 -0500 (Tue, 04 Feb 2025) EllapsedTime: 263.9 seconds RetCode: 0 Status: OK PackageFile: TAPseq_1.19.0.tar.gz PackageFileSize: 2.525 MiB