Package: TAPseq Version: 1.19.0 Command: /home/biocbuild/bbs-3.21-bioc/R/bin/R CMD check --install=check:TAPseq.install-out.txt --library=/home/biocbuild/bbs-3.21-bioc/R/site-library --timings TAPseq_1.19.0.tar.gz StartedAt: 2025-02-10 03:16:17 -0500 (Mon, 10 Feb 2025) EndedAt: 2025-02-10 03:31:58 -0500 (Mon, 10 Feb 2025) EllapsedTime: 940.3 seconds RetCode: 0 Status: WARNINGS CheckDir: TAPseq.Rcheck Warnings: 1