Package: TAPseq Version: 1.19.0 Command: E:\biocbuild\bbs-3.21-bioc\R\bin\R.exe CMD INSTALL TAPseq StartedAt: 2025-02-04 16:05:42 -0500 (Tue, 04 Feb 2025) EndedAt: 2025-02-04 16:06:51 -0500 (Tue, 04 Feb 2025) EllapsedTime: 69.0 seconds RetCode: 0 Status: OK