Package: TBSignatureProfiler Version: 1.19.0 Command: /home/biocbuild/bbs-3.21-bioc/R/bin/R CMD build --keep-empty-dirs --no-resave-data TBSignatureProfiler StartedAt: 2025-02-12 19:29:41 -0500 (Wed, 12 Feb 2025) EndedAt: 2025-02-12 19:29:56 -0500 (Wed, 12 Feb 2025) EllapsedTime: 15.0 seconds RetCode: 0 Status: OK PackageFile: TBSignatureProfiler_1.19.0.tar.gz PackageFileSize: 2.938 MiB