Package: TBSignatureProfiler Version: 1.19.0 Command: E:\biocbuild\bbs-3.21-bioc\R\bin\R.exe CMD INSTALL TBSignatureProfiler StartedAt: 2025-02-12 16:49:33 -0500 (Wed, 12 Feb 2025) EndedAt: 2025-02-12 16:50:53 -0500 (Wed, 12 Feb 2025) EllapsedTime: 79.5 seconds RetCode: 0 Status: OK