Package: TCC Version: 1.47.0 Command: /Library/Frameworks/R.framework/Resources/bin/R CMD check --install=check:TCC.install-out.txt --library=/Library/Frameworks/R.framework/Resources/library --no-vignettes --timings TCC_1.47.0.tar.gz StartedAt: 2025-02-03 22:18:15 -0500 (Mon, 03 Feb 2025) EndedAt: 2025-02-03 22:19:53 -0500 (Mon, 03 Feb 2025) EllapsedTime: 98.3 seconds RetCode: 0 Status: OK CheckDir: TCC.Rcheck Warnings: 0