Package: TCC Version: 1.47.0 Command: /Library/Frameworks/R.framework/Resources/bin/R CMD build --keep-empty-dirs --no-resave-data TCC StartedAt: 2025-02-09 18:41:29 -0500 (Sun, 09 Feb 2025) EndedAt: 2025-02-09 18:43:27 -0500 (Sun, 09 Feb 2025) EllapsedTime: 117.3 seconds RetCode: 0 Status: OK PackageFile: TCC_1.47.0.tar.gz PackageFileSize: 2.602 MiB