Package: TCC Version: 1.47.0 Command: /Library/Frameworks/R.framework/Resources/bin/R CMD INSTALL TCC StartedAt: 2025-02-03 15:20:19 -0500 (Mon, 03 Feb 2025) EndedAt: 2025-02-03 15:20:57 -0500 (Mon, 03 Feb 2025) EllapsedTime: 38.5 seconds RetCode: 0 Status: OK