Package: TCC Version: 1.47.0 Command: /home/biocbuild/bbs-3.21-bioc/R/bin/R CMD build --keep-empty-dirs --no-resave-data TCC StartedAt: 2025-02-03 19:42:30 -0500 (Mon, 03 Feb 2025) EndedAt: 2025-02-03 19:44:05 -0500 (Mon, 03 Feb 2025) EllapsedTime: 94.4 seconds RetCode: 0 Status: OK PackageFile: TCC_1.47.0.tar.gz PackageFileSize: 3.185 MiB