Package: TEKRABber Version: 1.11.0 Command: /Library/Frameworks/R.framework/Resources/bin/R CMD build --keep-empty-dirs --no-resave-data TEKRABber StartedAt: 2025-02-09 17:47:36 -0500 (Sun, 09 Feb 2025) EndedAt: 2025-02-09 17:48:19 -0500 (Sun, 09 Feb 2025) EllapsedTime: 42.5 seconds RetCode: 0 Status: OK PackageFile: TEKRABber_1.11.0.tar.gz PackageFileSize: 3.44 MiB