Package: TEKRABber Version: 1.11.0 Command: /Library/Frameworks/R.framework/Resources/bin/R CMD check --install=check:TEKRABber.install-out.txt --library=/Library/Frameworks/R.framework/Resources/library --no-vignettes --timings TEKRABber_1.11.0.tar.gz StartedAt: 2025-02-10 00:04:40 -0500 (Mon, 10 Feb 2025) EndedAt: 2025-02-10 00:26:56 -0500 (Mon, 10 Feb 2025) EllapsedTime: 1336.2 seconds RetCode: 0 Status: OK CheckDir: TEKRABber.Rcheck Warnings: 0