Package: TEKRABber Version: 1.11.0 Command: /home/biocbuild/bbs-3.21-bioc/R/bin/R CMD build --keep-empty-dirs --no-resave-data TEKRABber StartedAt: 2025-02-09 19:34:16 -0500 (Sun, 09 Feb 2025) EndedAt: 2025-02-09 19:36:13 -0500 (Sun, 09 Feb 2025) EllapsedTime: 116.3 seconds RetCode: 0 Status: OK PackageFile: TEKRABber_1.11.0.tar.gz PackageFileSize: 3.44 MiB