Package: TEKRABber Version: 1.11.0 Command: chmod a+r TEKRABber -R && E:\biocbuild\bbs-3.21-bioc\R\bin\R.exe CMD build --keep-empty-dirs --no-resave-data TEKRABber StartedAt: 2025-02-09 22:03:20 -0500 (Sun, 09 Feb 2025) EndedAt: 2025-02-09 22:05:46 -0500 (Sun, 09 Feb 2025) EllapsedTime: 146.6 seconds RetCode: 0 Status: OK PackageFile: TEKRABber_1.11.0.tar.gz PackageFileSize: 3.44 MiB