Package: TEKRABber Version: 1.11.0 Command: E:\biocbuild\bbs-3.21-bioc\R\bin\R.exe CMD check --no-multiarch --install=check:TEKRABber.install-out.txt --library=E:\biocbuild\bbs-3.21-bioc\R\library --no-vignettes --timings TEKRABber_1.11.0.tar.gz StartedAt: 2025-02-10 06:07:08 -0500 (Mon, 10 Feb 2025) EndedAt: 2025-02-10 06:27:15 -0500 (Mon, 10 Feb 2025) EllapsedTime: 1207.8 seconds RetCode: 0 Status: OK CheckDir: TEKRABber.Rcheck Warnings: 0