Package: TEKRABber Version: 1.11.0 Command: E:\biocbuild\bbs-3.21-bioc\R\bin\R.exe CMD INSTALL TEKRABber StartedAt: 2025-02-09 16:17:43 -0500 (Sun, 09 Feb 2025) EndedAt: 2025-02-09 16:18:30 -0500 (Sun, 09 Feb 2025) EllapsedTime: 47.6 seconds RetCode: 0 Status: OK