Package: TEQC Version: 4.29.0 Command: /home/biocbuild/R/R/bin/R CMD INSTALL TEQC StartedAt: 2025-01-29 19:52:30 -0000 (Wed, 29 Jan 2025) EndedAt: 2025-01-29 19:52:48 -0000 (Wed, 29 Jan 2025) EllapsedTime: 17.3 seconds RetCode: 0 Status: OK