Package: TEQC Version: 4.29.0 Command: /Library/Frameworks/R.framework/Resources/bin/R CMD build --keep-empty-dirs --no-resave-data TEQC StartedAt: 2025-02-12 18:34:03 -0500 (Wed, 12 Feb 2025) EndedAt: 2025-02-12 18:34:33 -0500 (Wed, 12 Feb 2025) EllapsedTime: 30.8 seconds RetCode: 0 Status: OK PackageFile: TEQC_4.29.0.tar.gz PackageFileSize: 642.8 KiB