Package: TEQC Version: 4.29.0 Command: /home/biocbuild/bbs-3.21-bioc/R/bin/R CMD build --keep-empty-dirs --no-resave-data TEQC StartedAt: 2025-02-09 19:34:28 -0500 (Sun, 09 Feb 2025) EndedAt: 2025-02-09 19:34:53 -0500 (Sun, 09 Feb 2025) EllapsedTime: 25.0 seconds RetCode: 0 Status: OK PackageFile: TEQC_4.29.0.tar.gz PackageFileSize: 643.8 KiB