Package: TEQC Version: 4.29.0 Command: /home/biocbuild/bbs-3.21-bioc/R/bin/R CMD INSTALL TEQC StartedAt: 2025-02-09 15:15:51 -0500 (Sun, 09 Feb 2025) EndedAt: 2025-02-09 15:16:03 -0500 (Sun, 09 Feb 2025) EllapsedTime: 12.8 seconds RetCode: 0 Status: OK