Package: TFARM Version: 1.29.0 Command: rm -rf TFARM.buildbin-libdir && mkdir TFARM.buildbin-libdir && /Users/biocbuild/BBS/utils/build-universal.sh TFARM_1.29.0.tar.gz /Library/Frameworks/R.framework/Resources/bin/R TFARM.buildbin-libdir StartedAt: 2025-02-09 22:33:19 -0500 (Sun, 09 Feb 2025) EndedAt: 2025-02-09 22:33:26 -0500 (Sun, 09 Feb 2025) EllapsedTime: 7.1 seconds RetCode: 0 Status: OK PackageFile: TFARM_1.29.0.tgz PackageFileSize: 535.5 KiB