Package: TFARM Version: 1.29.0 Command: /Library/Frameworks/R.framework/Resources/bin/R CMD build --keep-empty-dirs --no-resave-data TFARM StartedAt: 2025-02-09 17:48:00 -0500 (Sun, 09 Feb 2025) EndedAt: 2025-02-09 17:48:44 -0500 (Sun, 09 Feb 2025) EllapsedTime: 43.5 seconds RetCode: 0 Status: OK PackageFile: TFARM_1.29.0.tar.gz PackageFileSize: 470.9 KiB