Package: TFARM Version: 1.29.0 Command: /Library/Frameworks/R.framework/Resources/bin/R CMD check --install=check:TFARM.install-out.txt --library=/Library/Frameworks/R.framework/Resources/library --no-vignettes --timings TFARM_1.29.0.tar.gz StartedAt: 2025-02-10 00:04:46 -0500 (Mon, 10 Feb 2025) EndedAt: 2025-02-10 00:06:55 -0500 (Mon, 10 Feb 2025) EllapsedTime: 129.5 seconds RetCode: 0 Status: OK CheckDir: TFARM.Rcheck Warnings: 0