Package: TFARM Version: 1.29.0 Command: /home/biocbuild/bbs-3.21-bioc/R/bin/R CMD build --keep-empty-dirs --no-resave-data TFARM StartedAt: 2025-02-09 19:34:53 -0500 (Sun, 09 Feb 2025) EndedAt: 2025-02-09 19:36:36 -0500 (Sun, 09 Feb 2025) EllapsedTime: 102.3 seconds RetCode: 0 Status: OK PackageFile: TFARM_1.29.0.tar.gz PackageFileSize: 470.9 KiB