Package: TFEA.ChIP Version: 1.27.0 Command: /Library/Frameworks/R.framework/Resources/bin/R CMD INSTALL TFEA.ChIP StartedAt: 2025-02-12 15:20:43 -0500 (Wed, 12 Feb 2025) EndedAt: 2025-02-12 15:21:33 -0500 (Wed, 12 Feb 2025) EllapsedTime: 50.0 seconds RetCode: 0 Status: OK